BEGIN:VCALENDAR
VERSION:2.0
PRODID:-//Sabre//Sabre VObject 4.5.8//EN
CALSCALE:GREGORIAN
NAME:WAI\, Iniciativa de Accesibilidad Web (WAI\, Web Accessibility Initiat
 ive)
X-WR-CALNAME:WAI\, Iniciativa de Accesibilidad Web (WAI\, Web Accessibility
  Initiative)
BEGIN:VTIMEZONE
TZID:UTC
X-MICROSOFT-CDO-TZID:0
BEGIN:STANDARD
DTSTART:20030330T000000
TZOFFSETFROM:+0000
TZOFFSETTO:+0000
TZNAME:UTC
END:STANDARD
END:VTIMEZONE
BEGIN:VEVENT
UID:5202d6aa-e9b6-4773-acce-4a0962846ccd
DTSTAMP:20221212T101718Z
SUMMARY:WAI\, Iniciativa de Accesibilidad Web (WAI\, Web Accessibility Init
 iative)
DTSTART:20040324T000000Z
DTEND:20040324T000000Z
DESCRIPTION:https://www.w3.org/events/talks/2004/wai-iniciativa-de-accesibi
 lidad-web/\n\nWAI\, Iniciativa de Accesibilidad Web (WAI\, Web Accessibili
 ty Initiative)
STATUS:CONFIRMED
CREATED:20040324T000000Z
LAST-MODIFIED:20221212T101718Z
END:VEVENT
END:VCALENDAR
