BEGIN:VCALENDAR
VERSION:2.0
PRODID:-//Sabre//Sabre VObject 4.5.8//EN
CALSCALE:GREGORIAN
NAME:WCAG 2.0: Technology-specific Techniques\, Test Suite\, and Transition
  Plan from WCAG 1.0
X-WR-CALNAME:WCAG 2.0: Technology-specific Techniques\, Test Suite\, and Tr
 ansition Plan from WCAG 1.0
BEGIN:VTIMEZONE
TZID:UTC
X-MICROSOFT-CDO-TZID:0
BEGIN:STANDARD
DTSTART:20030326T000000
TZOFFSETFROM:+0000
TZOFFSETTO:+0000
TZNAME:UTC
END:STANDARD
END:VTIMEZONE
BEGIN:VEVENT
UID:5e0930e4-ad55-41cf-b420-12401d130984
DTSTAMP:20221108T153028Z
SUMMARY:WCAG 2.0: Technology-specific Techniques\, Test Suite\, and Transit
 ion Plan from WCAG 1.0
DTSTART:20040320T000000Z
DTEND:20040320T000000Z
DESCRIPTION:https://www.w3.org/events/talks/2004/wcag-2-0-technology-specif
 ic-techniques-test-suite-and-transition-plan-from-wcag-1-0/\n\nWCAG 2.0: T
 echnology-specific Techniques\, Test Suite\, and Transition Plan from WCAG
  1.0
STATUS:CONFIRMED
CREATED:20040320T000000Z
LAST-MODIFIED:20221108T153028Z
END:VEVENT
END:VCALENDAR
