BEGIN:VCALENDAR
VERSION:2.0
PRODID:-//Sabre//Sabre VObject 4.5.8//EN
CALSCALE:GREGORIAN
NAME:Web Accessibility: A Foundation for International Cooperation and Loca
 l Implentation
X-WR-CALNAME:Web Accessibility: A Foundation for International Cooperation 
 and Local Implentation
BEGIN:VTIMEZONE
TZID:UTC
X-MICROSOFT-CDO-TZID:0
BEGIN:STANDARD
DTSTART:20031216T000000
TZOFFSETFROM:+0000
TZOFFSETTO:+0000
TZNAME:UTC
END:STANDARD
END:VTIMEZONE
BEGIN:VEVENT
UID:758352b4-7c53-485e-b55e-cef98eebffd8
DTSTAMP:20221108T152943Z
SUMMARY:Web Accessibility: A Foundation for International Cooperation and L
 ocal Implentation
DTSTART:20041210T000000Z
DTEND:20041210T000000Z
DESCRIPTION:https://www.w3.org/events/talks/2004/web-accessibility-a-founda
 tion-for-international-cooperation-and-local-implentation/\n\nWeb Accessib
 ility: A Foundation for International Cooperation and Local Implentation
STATUS:CONFIRMED
CREATED:20041210T000000Z
LAST-MODIFIED:20221108T152943Z
END:VEVENT
END:VCALENDAR
