BEGIN:VCALENDAR
VERSION:2.0
PRODID:-//Sabre//Sabre VObject 4.5.8//EN
CALSCALE:GREGORIAN
NAME:Web Accessibility Best Practices Exchange Training (tutorials)
X-WR-CALNAME:Web Accessibility Best Practices Exchange Training (tutorials)
BEGIN:VTIMEZONE
TZID:UTC
X-MICROSOFT-CDO-TZID:0
BEGIN:STANDARD
DTSTART:20030214T000000
TZOFFSETFROM:+0000
TZOFFSETTO:+0000
TZNAME:UTC
END:STANDARD
END:VTIMEZONE
BEGIN:VEVENT
UID:324e8243-96a5-41ae-8917-4ee8e9f6f9b7
DTSTAMP:20221212T144036Z
SUMMARY:Web Accessibility Best Practices Exchange Training (tutorials)
DTSTART:20040209T000000Z
DTEND:20040210T000000Z
DESCRIPTION:https://www.w3.org/events/talks/2004/web-accessibility-best-pra
 ctices-exchange-training-tutorials/\n\nWeb Accessibility Best Practices Ex
 change Training (tutorials)
STATUS:CONFIRMED
CREATED:20040209T141500Z
LAST-MODIFIED:20221212T144036Z
END:VEVENT
END:VCALENDAR
