BEGIN:VCALENDAR
VERSION:2.0
PRODID:-//Sabre//Sabre VObject 4.5.8//EN
CALSCALE:GREGORIAN
NAME:Web Internationalization: Standards and Practice
X-WR-CALNAME:Web Internationalization: Standards and Practice
BEGIN:VTIMEZONE
TZID:UTC
X-MICROSOFT-CDO-TZID:0
BEGIN:STANDARD
DTSTART:20030406T000000
TZOFFSETFROM:+0000
TZOFFSETTO:+0000
TZNAME:UTC
END:STANDARD
END:VTIMEZONE
BEGIN:VEVENT
UID:1ad1b7dc-337d-4727-99e4-0ac100fce77a
DTSTAMP:20221212T102439Z
SUMMARY:Web Internationalization: Standards and Practice
DTSTART:20040331T000000Z
DTEND:20040331T000000Z
DESCRIPTION:https://www.w3.org/events/talks/2004/web-internationalization-s
 tandards-and-practice/\n\nWeb Internationalization: Standards and Practice
STATUS:CONFIRMED
CREATED:20040331T000000Z
LAST-MODIFIED:20221212T102439Z
END:VEVENT
END:VCALENDAR
