BEGIN:VCALENDAR
VERSION:2.0
PRODID:-//Sabre//Sabre VObject 4.5.8//EN
CALSCALE:GREGORIAN
NAME:Web Services and XML Standards: Can we benefit while avoiding pitfalls
 ?
X-WR-CALNAME:Web Services and XML Standards: Can we benefit while avoiding 
 pitfalls?
BEGIN:VTIMEZONE
TZID:UTC
X-MICROSOFT-CDO-TZID:0
BEGIN:STANDARD
DTSTART:20030127T000000
TZOFFSETFROM:+0000
TZOFFSETTO:+0000
TZNAME:UTC
END:STANDARD
END:VTIMEZONE
BEGIN:VEVENT
UID:eaea2b92-c5e5-4314-8327-cb73ef1fa5ff
DTSTAMP:20221108T153018Z
SUMMARY:Web Services and XML Standards: Can we benefit while avoiding pitfa
 lls?
DTSTART:20040122T000000Z
DTEND:20040122T000000Z
DESCRIPTION:https://www.w3.org/events/talks/2004/web-services-and-xml-stand
 ards-can-we-benefit-while-avoiding-pitfalls/\n\nWeb Services and XML Stand
 ards: Can we benefit while avoiding pitfalls?
STATUS:CONFIRMED
CREATED:20040122T000000Z
LAST-MODIFIED:20221108T153018Z
END:VEVENT
END:VCALENDAR
