BEGIN:VCALENDAR
VERSION:2.0
PRODID:-//Sabre//Sabre VObject 4.5.8//EN
CALSCALE:GREGORIAN
NAME:Why Standards Harmonization Is Essential to Web Accessibility\, and Wh
 at You Can Do to Make It Happen
X-WR-CALNAME:Why Standards Harmonization Is Essential to Web Accessibility\
 , and What You Can Do to Make It Happen
BEGIN:VTIMEZONE
TZID:UTC
X-MICROSOFT-CDO-TZID:0
BEGIN:STANDARD
DTSTART:20030323T000000
TZOFFSETFROM:+0000
TZOFFSETTO:+0000
TZNAME:UTC
END:STANDARD
END:VTIMEZONE
BEGIN:VEVENT
UID:b91fc08f-b09c-42d2-b2d9-272026a3da10
DTSTAMP:20221108T153036Z
SUMMARY:Why Standards Harmonization Is Essential to Web Accessibility\, and
  What You Can Do to Make It Happen
DTSTART:20040317T000000Z
DTEND:20040317T000000Z
DESCRIPTION:https://www.w3.org/events/talks/2004/why-standards-harmonizatio
 n-is-essential-to-web-accessibility-and-what-you-can-do-to-make-it-happen/
 \n\nWhy Standards Harmonization Is Essential to Web Accessibility\, and Wh
 at You Can Do to Make It Happen
STATUS:CONFIRMED
CREATED:20040317T000000Z
LAST-MODIFIED:20221108T153036Z
END:VEVENT
END:VCALENDAR
