BEGIN:VCALENDAR
VERSION:2.0
PRODID:-//Sabre//Sabre VObject 4.5.8//EN
CALSCALE:GREGORIAN
NAME:XForms: Improving the Web Forms Experience
X-WR-CALNAME:XForms: Improving the Web Forms Experience
BEGIN:VTIMEZONE
TZID:UTC
X-MICROSOFT-CDO-TZID:0
BEGIN:STANDARD
DTSTART:20031110T000000
TZOFFSETFROM:+0000
TZOFFSETTO:+0000
TZNAME:UTC
END:STANDARD
END:VTIMEZONE
BEGIN:VEVENT
UID:249dcc81-ab70-4e8a-b3d5-df0d2b9256ea
DTSTAMP:20221108T153018Z
SUMMARY:XForms: Improving the Web Forms Experience
DTSTART:20041104T000000Z
DTEND:20041104T000000Z
DESCRIPTION:https://www.w3.org/events/talks/2004/xforms-improving-the-web-f
 orms-experience/\n\nXForms: Improving the Web Forms Experience
STATUS:CONFIRMED
CREATED:20041104T000000Z
LAST-MODIFIED:20221108T153018Z
END:VEVENT
END:VCALENDAR
