BEGIN:VCALENDAR
VERSION:2.0
PRODID:-//Sabre//Sabre VObject 4.5.8//EN
CALSCALE:GREGORIAN
NAME:XML and the WWW
X-WR-CALNAME:XML and the WWW
BEGIN:VTIMEZONE
TZID:UTC
X-MICROSOFT-CDO-TZID:0
BEGIN:STANDARD
DTSTART:20030407T000000
TZOFFSETFROM:+0000
TZOFFSETTO:+0000
TZNAME:UTC
END:STANDARD
END:VTIMEZONE
BEGIN:VEVENT
UID:cd022b86-b32a-4b21-8532-199751c1bce6
DTSTAMP:20221108T153032Z
SUMMARY:XML and the WWW
DTSTART:20040401T000000Z
DTEND:20040401T000000Z
DESCRIPTION:https://www.w3.org/events/talks/2004/xml-and-the-www/\n\nXML an
 d the WWW
STATUS:CONFIRMED
CREATED:20040401T000000Z
LAST-MODIFIED:20221108T153032Z
END:VEVENT
END:VCALENDAR
