BEGIN:VCALENDAR
VERSION:2.0
PRODID:-//Sabre//Sabre VObject 4.5.8//EN
CALSCALE:GREGORIAN
NAME:XML - mahdollisuudet ja kehitys (XML - the potential and development)
X-WR-CALNAME:XML - mahdollisuudet ja kehitys (XML - the potential and devel
 opment)
BEGIN:VTIMEZONE
TZID:UTC
X-MICROSOFT-CDO-TZID:0
BEGIN:STANDARD
DTSTART:20030301T000000
TZOFFSETFROM:+0000
TZOFFSETTO:+0000
TZNAME:UTC
END:STANDARD
END:VTIMEZONE
BEGIN:VEVENT
UID:02a6c28d-84b2-4373-8d1b-d106388e75b8
DTSTAMP:20221212T101043Z
SUMMARY:XML - mahdollisuudet ja kehitys (XML - the potential and developmen
 t)
DTSTART:20040224T000000Z
DTEND:20040224T000000Z
DESCRIPTION:https://www.w3.org/events/talks/2004/xml-mahdollisuudet-ja-kehi
 tys/\n\nXML - mahdollisuudet ja kehitys (XML - the potential and developme
 nt)
STATUS:CONFIRMED
CREATED:20040224T000000Z
LAST-MODIFIED:20221212T101043Z
END:VEVENT
END:VCALENDAR
