BEGIN:VCALENDAR
VERSION:2.0
PRODID:-//Sabre//Sabre VObject 4.5.8//EN
CALSCALE:GREGORIAN
NAME:XML to the Desktop: XForms
X-WR-CALNAME:XML to the Desktop: XForms
BEGIN:VTIMEZONE
TZID:UTC
X-MICROSOFT-CDO-TZID:0
BEGIN:STANDARD
DTSTART:20031215T000000
TZOFFSETFROM:+0000
TZOFFSETTO:+0000
TZNAME:UTC
END:STANDARD
END:VTIMEZONE
BEGIN:VEVENT
UID:d3fe7c34-d683-454d-894e-40ede624f128
DTSTAMP:20221108T153034Z
SUMMARY:XML to the Desktop: XForms
DTSTART:20041209T000000Z
DTEND:20041209T000000Z
DESCRIPTION:https://www.w3.org/events/talks/2004/xml-to-the-desktop-xforms/
 \n\nXML to the Desktop: XForms
STATUS:CONFIRMED
CREATED:20041209T000000Z
LAST-MODIFIED:20221108T153034Z
END:VEVENT
END:VCALENDAR
