BEGIN:VCALENDAR
VERSION:2.0
PRODID:-//Sabre//Sabre VObject 4.5.8//EN
CALSCALE:GREGORIAN
NAME:전자거래에서의 웹서비스 기술 활용 전망 (Web Services 
 Perspectives for e-Business)
X-WR-CALNAME:전자거래에서의 웹서비스 기술 활용 전망 (Web S
 ervices Perspectives for e-Business)
BEGIN:VTIMEZONE
TZID:UTC
X-MICROSOFT-CDO-TZID:0
BEGIN:STANDARD
DTSTART:20040417T000000
TZOFFSETFROM:+0000
TZOFFSETTO:+0000
TZNAME:UTC
END:STANDARD
END:VTIMEZONE
BEGIN:VEVENT
UID:a3d86b57-ab8a-460f-bd59-fd1c2db5726d
DTSTAMP:20221212T090955Z
SUMMARY:전자거래에서의 웹서비스 기술 활용 전망 (Web Servic
 es Perspectives for e-Business)
DTSTART:20050412T000000Z
DTEND:20050412T000000Z
DESCRIPTION:https://www.w3.org/events/talks/2005/%EC%A0%84%EC%9E%90%EA%B1%B
 0%EB%9E%98%EC%97%90%EC%84%9C%EC%9D%98-%EC%9B%B9%EC%84%9C%EB%B9%84%EC%8A%A4
 -%EA%B8%B0%EC%88%A0-%ED%99%9C%EC%9A%A9-%EC%A0%84%EB%A7%9D/\n\n전자거래
 에서의 웹서비스 기술 활용 전망 (Web Services Perspectives for
  e-Business)
STATUS:CONFIRMED
CREATED:20050412T000000Z
LAST-MODIFIED:20221212T090955Z
END:VEVENT
END:VCALENDAR
