BEGIN:VCALENDAR
VERSION:2.0
PRODID:-//Sabre//Sabre VObject 4.5.8//EN
CALSCALE:GREGORIAN
NAME:Accessible Web Design Beyond the Basics: CSS and Other Techniques\, Ti
 ps\, and Tricks
X-WR-CALNAME:Accessible Web Design Beyond the Basics: CSS and Other Techniq
 ues\, Tips\, and Tricks
BEGIN:VTIMEZONE
TZID:UTC
X-MICROSOFT-CDO-TZID:0
BEGIN:STANDARD
DTSTART:20040320T000000
TZOFFSETFROM:+0000
TZOFFSETTO:+0000
TZNAME:UTC
END:STANDARD
END:VTIMEZONE
BEGIN:VEVENT
UID:9b045a38-76fc-41ff-b613-961f81f27329
DTSTAMP:20221109T093500Z
SUMMARY:Accessible Web Design Beyond the Basics: CSS and Other Techniques\,
  Tips\, and Tricks
DTSTART:20050315T000000Z
DTEND:20050315T000000Z
DESCRIPTION:https://www.w3.org/events/talks/2005/accessible-web-design-beyo
 nd-the-basics-css-and-other-techniques-tips-and-tricks/\n\nAccessible Web 
 Design Beyond the Basics: CSS and Other Techniques\, Tips\, and Tricks
STATUS:CONFIRMED
CREATED:20050315T000000Z
LAST-MODIFIED:20221109T093500Z
END:VEVENT
END:VCALENDAR
