BEGIN:VCALENDAR
VERSION:2.0
PRODID:-//Sabre//Sabre VObject 4.5.8//EN
CALSCALE:GREGORIAN
NAME:Beyond VoiceXML: New Standard Languages from the world Wide Web consor
 tium
X-WR-CALNAME:Beyond VoiceXML: New Standard Languages from the world Wide We
 b consortium
BEGIN:VTIMEZONE
TZID:UTC
X-MICROSOFT-CDO-TZID:0
BEGIN:STANDARD
DTSTART:20040229T000000
TZOFFSETFROM:+0000
TZOFFSETTO:+0000
TZNAME:UTC
END:STANDARD
END:VTIMEZONE
BEGIN:VEVENT
UID:f5213481-c637-4bc0-bf50-5af1242fb482
DTSTAMP:20221109T093520Z
SUMMARY:Beyond VoiceXML: New Standard Languages from the world Wide Web con
 sortium
DTSTART:20050223T000000Z
DTEND:20050223T000000Z
DESCRIPTION:https://www.w3.org/events/talks/2005/beyond-voicexml-new-standa
 rd-languages-from-the-world-wide-web-consortium/\n\nBeyond VoiceXML: New S
 tandard Languages from the world Wide Web consortium
STATUS:CONFIRMED
CREATED:20050223T000000Z
LAST-MODIFIED:20221109T093520Z
END:VEVENT
END:VCALENDAR
