BEGIN:VCALENDAR
VERSION:2.0
PRODID:-//Sabre//Sabre VObject 4.5.8//EN
CALSCALE:GREGORIAN
NAME:¿Debo utilizar estándares Web? (Should I use Web Standards?)
X-WR-CALNAME:¿Debo utilizar estándares Web? (Should I use Web Standards?)
BEGIN:VTIMEZONE
TZID:UTC
X-MICROSOFT-CDO-TZID:0
BEGIN:STANDARD
DTSTART:20040426T000000
TZOFFSETFROM:+0000
TZOFFSETTO:+0000
TZNAME:UTC
END:STANDARD
END:VTIMEZONE
BEGIN:VEVENT
UID:48b9c985-c770-400a-bce8-53688d1d0882
DTSTAMP:20221212T091128Z
SUMMARY:¿Debo utilizar estándares Web? (Should I use Web Standards?)
DTSTART:20050421T000000Z
DTEND:20050421T000000Z
DESCRIPTION:https://www.w3.org/events/talks/2005/debo-utilizar-est%C3%A1nda
 res-web/\n\n¿Debo utilizar estándares Web? (Should I use Web Standards?)
STATUS:CONFIRMED
CREATED:20050421T000000Z
LAST-MODIFIED:20221212T091128Z
END:VEVENT
END:VCALENDAR
