BEGIN:VCALENDAR
VERSION:2.0
PRODID:-//Sabre//Sabre VObject 4.5.8//EN
CALSCALE:GREGORIAN
NAME:Enabling the Mobile Web (booth)
X-WR-CALNAME:Enabling the Mobile Web (booth)
BEGIN:VTIMEZONE
TZID:UTC
X-MICROSOFT-CDO-TZID:0
BEGIN:STANDARD
DTSTART:20040220T000000
TZOFFSETFROM:+0000
TZOFFSETTO:+0000
TZNAME:UTC
END:STANDARD
END:VTIMEZONE
BEGIN:VEVENT
UID:3ff28790-c14b-4673-bdab-6c8bd0444f26
DTSTAMP:20221109T094234Z
SUMMARY:Enabling the Mobile Web (booth)
DTSTART:20050214T000000Z
DTEND:20050217T000000Z
DESCRIPTION:https://www.w3.org/events/talks/2005/enabling-the-mobile-web/\n
 \nEnabling the Mobile Web
STATUS:CONFIRMED
CREATED:20050214T000000Z
LAST-MODIFIED:20221109T094234Z
END:VEVENT
END:VCALENDAR
