BEGIN:VCALENDAR
VERSION:2.0
PRODID:-//Sabre//Sabre VObject 4.5.8//EN
CALSCALE:GREGORIAN
NAME:Estándares del W3C en BPM (W3C Standards in BPM)
X-WR-CALNAME:Estándares del W3C en BPM (W3C Standards in BPM)
BEGIN:VTIMEZONE
TZID:UTC
X-MICROSOFT-CDO-TZID:0
BEGIN:STANDARD
DTSTART:20040208T000000
TZOFFSETFROM:+0000
TZOFFSETTO:+0000
TZNAME:UTC
END:STANDARD
END:VTIMEZONE
BEGIN:VEVENT
UID:451d1bce-c022-434b-a145-c62fa3916e7a
DTSTAMP:20221209T185020Z
SUMMARY:Estándares del W3C en BPM (W3C Standards in BPM)
DTSTART:20050202T000000Z
DTEND:20050202T000000Z
DESCRIPTION:https://www.w3.org/events/talks/2005/est%C3%A1ndares-del-w3c-en
 -bpm/\n\nEstándares del W3C en BPM (W3C Standards in BPM)
STATUS:CONFIRMED
CREATED:20050202T000000Z
LAST-MODIFIED:20221209T185020Z
END:VEVENT
END:VCALENDAR
