BEGIN:VCALENDAR
VERSION:2.0
PRODID:-//Sabre//Sabre VObject 4.5.8//EN
CALSCALE:GREGORIAN
NAME:Estándares Web del W3C (W3C Web Standards)
X-WR-CALNAME:Estándares Web del W3C (W3C Web Standards)
BEGIN:VTIMEZONE
TZID:UTC
X-MICROSOFT-CDO-TZID:0
BEGIN:STANDARD
DTSTART:20040319T000000
TZOFFSETFROM:+0000
TZOFFSETTO:+0000
TZNAME:UTC
END:STANDARD
END:VTIMEZONE
BEGIN:VEVENT
UID:13c5f5e9-49f2-4b34-87e1-a578af9caef3
DTSTAMP:20221212T090801Z
SUMMARY:Estándares Web del W3C (W3C Web Standards)
DTSTART:20050314T000000Z
DTEND:20050314T000000Z
DESCRIPTION:https://www.w3.org/events/talks/2005/est%C3%A1ndares-web-del-w3
 c/\n\nEstándares Web del W3C (W3C Web Standards)
STATUS:CONFIRMED
CREATED:20050314T000000Z
LAST-MODIFIED:20221212T090801Z
END:VEVENT
END:VCALENDAR
