BEGIN:VCALENDAR
VERSION:2.0
PRODID:-//Sabre//Sabre VObject 4.5.8//EN
CALSCALE:GREGORIAN
NAME:Exploring Web Accessibility: A Hands-On Introduction
X-WR-CALNAME:Exploring Web Accessibility: A Hands-On Introduction
BEGIN:VTIMEZONE
TZID:UTC
X-MICROSOFT-CDO-TZID:0
BEGIN:STANDARD
DTSTART:20040319T000000
TZOFFSETFROM:+0000
TZOFFSETTO:+0000
TZNAME:UTC
END:STANDARD
END:VTIMEZONE
BEGIN:VEVENT
UID:2c5ce456-13b2-404c-b8e4-29fe513f96b5
DTSTAMP:20221109T093503Z
SUMMARY:Exploring Web Accessibility: A Hands-On Introduction
DTSTART:20050314T000000Z
DTEND:20050314T000000Z
DESCRIPTION:https://www.w3.org/events/talks/2005/exploring-web-accessibilit
 y-a-hands-on-introduction/\n\nExploring Web Accessibility: A Hands-On Intr
 oduction
STATUS:CONFIRMED
CREATED:20050314T000000Z
LAST-MODIFIED:20221109T093503Z
END:VEVENT
END:VCALENDAR
