BEGIN:VCALENDAR
VERSION:2.0
PRODID:-//Sabre//Sabre VObject 4.5.8//EN
CALSCALE:GREGORIAN
NAME:From Web Services to the Semantic Web: Global Data Reuse
X-WR-CALNAME:From Web Services to the Semantic Web: Global Data Reuse
BEGIN:VTIMEZONE
TZID:UTC
X-MICROSOFT-CDO-TZID:0
BEGIN:STANDARD
DTSTART:20040410T000000
TZOFFSETFROM:+0000
TZOFFSETTO:+0000
TZNAME:UTC
END:STANDARD
END:VTIMEZONE
BEGIN:VEVENT
UID:73ecab3d-12d4-42a8-bf85-8530e988aa68
DTSTAMP:20221109T093519Z
SUMMARY:From Web Services to the Semantic Web: Global Data Reuse
DTSTART:20050405T000000Z
DTEND:20050405T000000Z
DESCRIPTION:https://www.w3.org/events/talks/2005/from-web-services-to-the-s
 emantic-web-global-data-reuse/\n\nFrom Web Services to the Semantic Web: G
 lobal Data Reuse
STATUS:CONFIRMED
CREATED:20050405T000000Z
LAST-MODIFIED:20221109T093519Z
END:VEVENT
END:VCALENDAR
