BEGIN:VCALENDAR
VERSION:2.0
PRODID:-//Sabre//Sabre VObject 4.5.8//EN
CALSCALE:GREGORIAN
NAME:How to use Accessibility Guidelines\, Standards\, and Testing Tools (p
 anel)
X-WR-CALNAME:How to use Accessibility Guidelines\, Standards\, and Testing 
 Tools (panel)
BEGIN:VTIMEZONE
TZID:UTC
X-MICROSOFT-CDO-TZID:0
BEGIN:STANDARD
DTSTART:20040318T000000
TZOFFSETFROM:+0000
TZOFFSETTO:+0000
TZNAME:UTC
END:STANDARD
END:VTIMEZONE
BEGIN:VEVENT
UID:ac74493b-ac47-4713-b8b0-03f6c3b21dca
DTSTAMP:20221212T090741Z
SUMMARY:How to use Accessibility Guidelines\, Standards\, and Testing Tools
  (panel)
DTSTART:20050313T000000Z
DTEND:20050313T000000Z
DESCRIPTION:https://www.w3.org/events/talks/2005/how-to-use-accessibility-g
 uidelines-standards-and-testing-tools/\n\nHow to use Accessibility Guideli
 nes\, Standards\, and Testing Tools (panel)
STATUS:CONFIRMED
CREATED:20050313T000000Z
LAST-MODIFIED:20221212T090741Z
END:VEVENT
END:VCALENDAR
