BEGIN:VCALENDAR
VERSION:2.0
PRODID:-//Sabre//Sabre VObject 4.5.8//EN
CALSCALE:GREGORIAN
NAME:Ineluctable Modality of the Visible
X-WR-CALNAME:Ineluctable Modality of the Visible
BEGIN:VTIMEZONE
TZID:UTC
X-MICROSOFT-CDO-TZID:0
BEGIN:STANDARD
DTSTART:20040127T000000
TZOFFSETFROM:+0000
TZOFFSETTO:+0000
TZNAME:UTC
END:STANDARD
END:VTIMEZONE
BEGIN:VEVENT
UID:b66d92a4-c6d0-4947-bcf0-646f9d15d451
DTSTAMP:20221109T093458Z
SUMMARY:Ineluctable Modality of the Visible
DTSTART:20050121T000000Z
DTEND:20050121T000000Z
DESCRIPTION:https://www.w3.org/events/talks/2005/ineluctable-modality-of-th
 e-visible/\n\nIneluctable Modality of the Visible
STATUS:CONFIRMED
CREATED:20050121T000000Z
LAST-MODIFIED:20221109T093458Z
END:VEVENT
END:VCALENDAR
