BEGIN:VCALENDAR
VERSION:2.0
PRODID:-//Sabre//Sabre VObject 4.5.8//EN
CALSCALE:GREGORIAN
NAME:Introduction to the Semantic Web
X-WR-CALNAME:Introduction to the Semantic Web
BEGIN:VTIMEZONE
TZID:UTC
X-MICROSOFT-CDO-TZID:0
BEGIN:STANDARD
DTSTART:20041219T000000
TZOFFSETFROM:+0000
TZOFFSETTO:+0000
TZNAME:UTC
END:STANDARD
END:VTIMEZONE
BEGIN:VEVENT
UID:156885cd-0514-4c7d-8856-8e99230ad056
DTSTAMP:20221109T093518Z
SUMMARY:Introduction to the Semantic Web
DTSTART:20051214T000000Z
DTEND:20051214T000000Z
DESCRIPTION:https://www.w3.org/events/talks/2005/introduction-to-the-semant
 ic-web-2/\n\nIntroduction to the Semantic Web
STATUS:CONFIRMED
CREATED:20051214T000000Z
LAST-MODIFIED:20221109T093518Z
END:VEVENT
END:VCALENDAR
