BEGIN:VCALENDAR
VERSION:2.0
PRODID:-//Sabre//Sabre VObject 4.5.8//EN
CALSCALE:GREGORIAN
NAME:Introduction to W3C
X-WR-CALNAME:Introduction to W3C
BEGIN:VTIMEZONE
TZID:UTC
X-MICROSOFT-CDO-TZID:0
BEGIN:STANDARD
DTSTART:20040417T000000
TZOFFSETFROM:+0000
TZOFFSETTO:+0000
TZNAME:UTC
END:STANDARD
END:VTIMEZONE
BEGIN:VEVENT
UID:6988fdbc-9b8b-4df1-bcbb-330d23f60ca8
DTSTAMP:20221109T093513Z
SUMMARY:Introduction to W3C
DTSTART:20050412T000000Z
DTEND:20050412T000000Z
DESCRIPTION:https://www.w3.org/events/talks/2005/introduction-to-w3c/\n\nIn
 troduction to W3C
STATUS:CONFIRMED
CREATED:20050412T000000Z
LAST-MODIFIED:20221109T093513Z
END:VEVENT
END:VCALENDAR
