BEGIN:VCALENDAR
VERSION:2.0
PRODID:-//Sabre//Sabre VObject 4.5.8//EN
CALSCALE:GREGORIAN
NAME:Is it possible to make mobile\, accessible and skinnable client-side W
 eb applications?
X-WR-CALNAME:Is it possible to make mobile\, accessible and skinnable clien
 t-side Web applications?
BEGIN:VTIMEZONE
TZID:UTC
X-MICROSOFT-CDO-TZID:0
BEGIN:STANDARD
DTSTART:20040307T000000
TZOFFSETFROM:+0000
TZOFFSETTO:+0000
TZNAME:UTC
END:STANDARD
END:VTIMEZONE
BEGIN:VEVENT
UID:e9ceceeb-3fba-4d84-bad3-a5d871f18dd3
DTSTAMP:20221109T093501Z
SUMMARY:Is it possible to make mobile\, accessible and skinnable client-sid
 e Web applications?
DTSTART:20050302T000000Z
DTEND:20050302T000000Z
DESCRIPTION:https://www.w3.org/events/talks/2005/is-it-possible-to-make-mob
 ile-accessible-and-skinnable-client-side-web-applications/\n\nIs it possib
 le to make mobile\, accessible and skinnable client-side Web applications?
STATUS:CONFIRMED
CREATED:20050302T000000Z
LAST-MODIFIED:20221109T093501Z
END:VEVENT
END:VCALENDAR
