BEGIN:VCALENDAR
VERSION:2.0
PRODID:-//Sabre//Sabre VObject 4.5.8//EN
CALSCALE:GREGORIAN
NAME:Multimodal Standards For Automating Customer Support
X-WR-CALNAME:Multimodal Standards For Automating Customer Support
BEGIN:VTIMEZONE
TZID:UTC
X-MICROSOFT-CDO-TZID:0
BEGIN:STANDARD
DTSTART:20040227T000000
TZOFFSETFROM:+0000
TZOFFSETTO:+0000
TZNAME:UTC
END:STANDARD
END:VTIMEZONE
BEGIN:VEVENT
UID:6da6b0a7-162b-44c5-9d79-4638cdbcc627
DTSTAMP:20221109T093513Z
SUMMARY:Multimodal Standards For Automating Customer Support
DTSTART:20050221T000000Z
DTEND:20050221T000000Z
DESCRIPTION:https://www.w3.org/events/talks/2005/multimodal-standards-for-a
 utomating-customer-support/\n\nMultimodal Standards For Automating Custome
 r Support
STATUS:CONFIRMED
CREATED:20050221T000000Z
LAST-MODIFIED:20221109T093513Z
END:VEVENT
END:VCALENDAR
