BEGIN:VCALENDAR
VERSION:2.0
PRODID:-//Sabre//Sabre VObject 4.5.8//EN
CALSCALE:GREGORIAN
NAME:Overview of the W3C I18N ITS Working Group
X-WR-CALNAME:Overview of the W3C I18N ITS Working Group
BEGIN:VTIMEZONE
TZID:UTC
X-MICROSOFT-CDO-TZID:0
BEGIN:STANDARD
DTSTART:20041217T000000
TZOFFSETFROM:+0000
TZOFFSETTO:+0000
TZNAME:UTC
END:STANDARD
END:VTIMEZONE
BEGIN:VEVENT
UID:1aea0f93-b145-422e-97be-c7c62bc6e6b6
DTSTAMP:20221109T093453Z
SUMMARY:Overview of the W3C I18N ITS Working Group
DTSTART:20051212T000000Z
DTEND:20051212T000000Z
DESCRIPTION:https://www.w3.org/events/talks/2005/overview-of-the-w3c-i18n-i
 ts-working-group/\n\nOverview of the W3C I18N ITS Working Group
STATUS:CONFIRMED
CREATED:20051212T000000Z
LAST-MODIFIED:20221109T093453Z
END:VEVENT
END:VCALENDAR
