BEGIN:VCALENDAR
VERSION:2.0
PRODID:-//Sabre//Sabre VObject 4.5.8//EN
CALSCALE:GREGORIAN
NAME:Perché Tim Bernes-Lee ha vinto il Millennium Technology Prize 2004 pe
 r la Tecnologia e le Scienze Appplicate?  (Why Tim Berners-Lee received th
 e inaugural Millennium Technology Prize)
X-WR-CALNAME:Perché Tim Bernes-Lee ha vinto il Millennium Technology Prize
  2004 per la Tecnologia e le Scienze Appplicate?  (Why Tim Berners-Lee rec
 eived the inaugural Millennium Technology Prize)
BEGIN:VTIMEZONE
TZID:UTC
X-MICROSOFT-CDO-TZID:0
BEGIN:STANDARD
DTSTART:20040417T000000
TZOFFSETFROM:+0000
TZOFFSETTO:+0000
TZNAME:UTC
END:STANDARD
END:VTIMEZONE
BEGIN:VEVENT
UID:84a9ecfb-d95a-4c2a-b5c5-27ac70efd7e8
DTSTAMP:20221212T091029Z
SUMMARY:Perché Tim Bernes-Lee ha vinto il Millennium Technology Prize 2004
  per la Tecnologia e le Scienze Appplicate?  (Why Tim Berners-Lee received
  the inaugural Millennium Technology Prize)
DTSTART:20050412T000000Z
DTEND:20050412T000000Z
DESCRIPTION:https://www.w3.org/events/talks/2005/perch%C3%A9-tim-bernes-lee
 -ha-vinto-il-millennium-technology-prize-2004-per-la-tecnologia-e-le-scien
 ze-appplicate/\n\nPerché Tim Bernes-Lee ha vinto il Millennium Technology
  Prize 2004 per la Tecnologia e le Scienze Appplicate?
STATUS:CONFIRMED
CREATED:20050412T000000Z
LAST-MODIFIED:20221212T091029Z
END:VEVENT
END:VCALENDAR
