BEGIN:VCALENDAR
VERSION:2.0
PRODID:-//Sabre//Sabre VObject 4.5.8//EN
CALSCALE:GREGORIAN
NAME:Perspectives on Digital Transparency (panel)
X-WR-CALNAME:Perspectives on Digital Transparency (panel)
BEGIN:VTIMEZONE
TZID:UTC
X-MICROSOFT-CDO-TZID:0
BEGIN:STANDARD
DTSTART:20040316T000000
TZOFFSETFROM:+0000
TZOFFSETTO:+0000
TZNAME:UTC
END:STANDARD
END:VTIMEZONE
BEGIN:VEVENT
UID:c34e89d0-b4c4-4d5c-aa6b-f9e8d06f3666
DTSTAMP:20221212T090724Z
SUMMARY:Perspectives on Digital Transparency (panel)
DTSTART:20050311T000000Z
DTEND:20050311T000000Z
DESCRIPTION:https://www.w3.org/events/talks/2005/perspectives-on-digital-tr
 ansparency/\n\nPerspectives on Digital Transparency (panel)
STATUS:CONFIRMED
CREATED:20050311T000000Z
LAST-MODIFIED:20221212T090724Z
END:VEVENT
END:VCALENDAR
