BEGIN:VCALENDAR
VERSION:2.0
PRODID:-//Sabre//Sabre VObject 4.5.8//EN
CALSCALE:GREGORIAN
NAME:Semantic Processing and Multimodal User Interfaces
X-WR-CALNAME:Semantic Processing and Multimodal User Interfaces
BEGIN:VTIMEZONE
TZID:UTC
X-MICROSOFT-CDO-TZID:0
BEGIN:STANDARD
DTSTART:20040228T000000
TZOFFSETFROM:+0000
TZOFFSETTO:+0000
TZNAME:UTC
END:STANDARD
END:VTIMEZONE
BEGIN:VEVENT
UID:6acd569f-1497-457f-a565-8ec109f356b6
DTSTAMP:20221109T093522Z
SUMMARY:Semantic Processing and Multimodal User Interfaces
DTSTART:20050222T000000Z
DTEND:20050222T000000Z
DESCRIPTION:https://www.w3.org/events/talks/2005/semantic-processing-and-mu
 ltimodal-user-interfaces/\n\nSemantic Processing and Multimodal User Inter
 faces
STATUS:CONFIRMED
CREATED:20050222T000000Z
LAST-MODIFIED:20221109T093522Z
END:VEVENT
END:VCALENDAR
