BEGIN:VCALENDAR
VERSION:2.0
PRODID:-//Sabre//Sabre VObject 4.5.8//EN
CALSCALE:GREGORIAN
NAME:Standards Bodies updates - W3C and Choreography to bind technology wit
 h business functions
X-WR-CALNAME:Standards Bodies updates - W3C and Choreography to bind techno
 logy with business functions
BEGIN:VTIMEZONE
TZID:UTC
X-MICROSOFT-CDO-TZID:0
BEGIN:STANDARD
DTSTART:20040207T000000
TZOFFSETFROM:+0000
TZOFFSETTO:+0000
TZNAME:UTC
END:STANDARD
END:VTIMEZONE
BEGIN:VEVENT
UID:1aeccf0b-cea9-42d1-a279-0cb12447ac0a
DTSTAMP:20221109T093506Z
SUMMARY:Standards Bodies updates - W3C and Choreography to bind technology 
 with business functions
DTSTART:20050201T000000Z
DTEND:20050201T000000Z
DESCRIPTION:https://www.w3.org/events/talks/2005/standards-bodies-updates-w
 3c-and-choreography-to-bind-technology-with-business-functions/\n\nStandar
 ds Bodies updates - W3C and Choreography to bind technology with business 
 functions
STATUS:CONFIRMED
CREATED:20050201T000000Z
LAST-MODIFIED:20221109T093506Z
END:VEVENT
END:VCALENDAR
