BEGIN:VCALENDAR
VERSION:2.0
PRODID:-//Sabre//Sabre VObject 4.5.8//EN
CALSCALE:GREGORIAN
NAME:The Role of Web Standards in Technology Transfer
X-WR-CALNAME:The Role of Web Standards in Technology Transfer
BEGIN:VTIMEZONE
TZID:UTC
X-MICROSOFT-CDO-TZID:0
BEGIN:STANDARD
DTSTART:20040313T000000
TZOFFSETFROM:+0000
TZOFFSETTO:+0000
TZNAME:UTC
END:STANDARD
END:VTIMEZONE
BEGIN:VEVENT
UID:c94b9daf-397f-4805-9049-af9414621efd
DTSTAMP:20221109T093503Z
SUMMARY:The Role of Web Standards in Technology Transfer
DTSTART:20050308T000000Z
DTEND:20050308T000000Z
DESCRIPTION:https://www.w3.org/events/talks/2005/the-role-of-web-standards-
 in-technology-transfer/\n\nThe Role of Web Standards in Technology Transfe
 r
STATUS:CONFIRMED
CREATED:20050308T000000Z
LAST-MODIFIED:20221109T093503Z
END:VEVENT
END:VCALENDAR
