BEGIN:VCALENDAR
VERSION:2.0
PRODID:-//Sabre//Sabre VObject 4.5.8//EN
CALSCALE:GREGORIAN
NAME:The Semantic Web is Here
X-WR-CALNAME:The Semantic Web is Here
BEGIN:VTIMEZONE
TZID:UTC
X-MICROSOFT-CDO-TZID:0
BEGIN:STANDARD
DTSTART:20040313T000000
TZOFFSETFROM:+0000
TZOFFSETTO:+0000
TZNAME:UTC
END:STANDARD
END:VTIMEZONE
BEGIN:VEVENT
UID:4a8278e4-6599-4bf9-8460-7407c5f9e01c
DTSTAMP:20221109T093454Z
SUMMARY:The Semantic Web is Here
DTSTART:20050308T000000Z
DTEND:20050308T000000Z
DESCRIPTION:https://www.w3.org/events/talks/2005/the-semantic-web-is-here/\
 n\nThe Semantic Web is Here
STATUS:CONFIRMED
CREATED:20050308T000000Z
LAST-MODIFIED:20221109T093454Z
END:VEVENT
END:VCALENDAR
