BEGIN:VCALENDAR
VERSION:2.0
PRODID:-//Sabre//Sabre VObject 4.5.8//EN
CALSCALE:GREGORIAN
NAME:The State of the Net – An Overview (panel)
X-WR-CALNAME:The State of the Net – An Overview (panel)
BEGIN:VTIMEZONE
TZID:UTC
X-MICROSOFT-CDO-TZID:0
BEGIN:STANDARD
DTSTART:20040215T000000
TZOFFSETFROM:+0000
TZOFFSETTO:+0000
TZNAME:UTC
END:STANDARD
END:VTIMEZONE
BEGIN:VEVENT
UID:8991a531-ad6a-4b08-8313-a62345db2216
DTSTAMP:20221212T090231Z
SUMMARY:The State of the Net – An Overview (panel)
DTSTART:20050209T000000Z
DTEND:20050209T000000Z
DESCRIPTION:https://www.w3.org/events/talks/2005/the-state-of-the-net-an-ov
 erview/\n\nThe State of the Net – An Overview (panel)
STATUS:CONFIRMED
CREATED:20050209T000000Z
LAST-MODIFIED:20221212T090231Z
END:VEVENT
END:VCALENDAR
