BEGIN:VCALENDAR
VERSION:2.0
PRODID:-//Sabre//Sabre VObject 4.5.8//EN
CALSCALE:GREGORIAN
NAME:The Web according to W3C - How to turn your idea into a standard
X-WR-CALNAME:The Web according to W3C - How to turn your idea into a standa
 rd
BEGIN:VTIMEZONE
TZID:UTC
X-MICROSOFT-CDO-TZID:0
BEGIN:STANDARD
DTSTART:20050101T000000
TZOFFSETFROM:+0000
TZOFFSETTO:+0000
TZNAME:UTC
END:STANDARD
END:VTIMEZONE
BEGIN:VEVENT
UID:1a6af3c6-cf03-4ed9-8bf5-71b06e68fbaf
DTSTAMP:20221109T093453Z
SUMMARY:The Web according to W3C - How to turn your idea into a standard
DTSTART:20051227T000000Z
DTEND:20051227T000000Z
DESCRIPTION:https://www.w3.org/events/talks/2005/the-web-according-to-w3c-h
 ow-to-turn-your-idea-into-a-standard/\n\nThe Web according to W3C - How to
  turn your idea into a standard
STATUS:CONFIRMED
CREATED:20051227T000000Z
LAST-MODIFIED:20221109T093453Z
END:VEVENT
END:VCALENDAR
