BEGIN:VCALENDAR
VERSION:2.0
PRODID:-//Sabre//Sabre VObject 4.5.8//EN
CALSCALE:GREGORIAN
NAME:The Web according to W3C
X-WR-CALNAME:The Web according to W3C
BEGIN:VTIMEZONE
TZID:UTC
X-MICROSOFT-CDO-TZID:0
BEGIN:STANDARD
DTSTART:20050103T000000
TZOFFSETFROM:+0000
TZOFFSETTO:+0000
TZNAME:UTC
END:STANDARD
END:VTIMEZONE
BEGIN:VEVENT
UID:994f478a-4f45-40d9-bf10-504776e600fe
DTSTAMP:20221109T093519Z
SUMMARY:The Web according to W3C
DTSTART:20051229T000000Z
DTEND:20051229T000000Z
DESCRIPTION:https://www.w3.org/events/talks/2005/the-web-according-to-w3c/\
 n\nThe Web according to W3C
STATUS:CONFIRMED
CREATED:20051229T000000Z
LAST-MODIFIED:20221109T093519Z
END:VEVENT
END:VCALENDAR
