BEGIN:VCALENDAR
VERSION:2.0
PRODID:-//Sabre//Sabre VObject 4.5.8//EN
CALSCALE:GREGORIAN
NAME:Tutorial on Semantic Web Technologies
X-WR-CALNAME:Tutorial on Semantic Web Technologies
BEGIN:VTIMEZONE
TZID:UTC
X-MICROSOFT-CDO-TZID:0
BEGIN:STANDARD
DTSTART:20040417T000000
TZOFFSETFROM:+0000
TZOFFSETTO:+0000
TZNAME:UTC
END:STANDARD
END:VTIMEZONE
BEGIN:VEVENT
UID:789f4993-48d4-46a0-b46d-e8166282af56
DTSTAMP:20221109T093512Z
SUMMARY:Tutorial on Semantic Web Technologies
DTSTART:20050412T000000Z
DTEND:20050412T000000Z
DESCRIPTION:https://www.w3.org/events/talks/2005/tutorial-on-semantic-web-t
 echnologies-3/\n\nTutorial on Semantic Web Technologies
STATUS:CONFIRMED
CREATED:20050412T000000Z
LAST-MODIFIED:20221109T093512Z
END:VEVENT
END:VCALENDAR
