BEGIN:VCALENDAR
VERSION:2.0
PRODID:-//Sabre//Sabre VObject 4.5.8//EN
CALSCALE:GREGORIAN
NAME:W3C Multimodal Interaction Working Group Activities
X-WR-CALNAME:W3C Multimodal Interaction Working Group Activities
BEGIN:VTIMEZONE
TZID:UTC
X-MICROSOFT-CDO-TZID:0
BEGIN:STANDARD
DTSTART:20040229T000000
TZOFFSETFROM:+0000
TZOFFSETTO:+0000
TZNAME:UTC
END:STANDARD
END:VTIMEZONE
BEGIN:VEVENT
UID:dcdb83e1-e33e-4e52-9ccf-34e900533978
DTSTAMP:20221109T093512Z
SUMMARY:W3C Multimodal Interaction Working Group Activities
DTSTART:20050223T000000Z
DTEND:20050223T000000Z
DESCRIPTION:https://www.w3.org/events/talks/2005/w3c-multimodal-interaction
 -working-group-activities/\n\nW3C Multimodal Interaction Working Group Act
 ivities
STATUS:CONFIRMED
CREATED:20050223T000000Z
LAST-MODIFIED:20221109T093512Z
END:VEVENT
END:VCALENDAR
