BEGIN:VCALENDAR
VERSION:2.0
PRODID:-//Sabre//Sabre VObject 4.5.8//EN
CALSCALE:GREGORIAN
NAME:W3C Standards for Automating customer Support
X-WR-CALNAME:W3C Standards for Automating customer Support
BEGIN:VTIMEZONE
TZID:UTC
X-MICROSOFT-CDO-TZID:0
BEGIN:STANDARD
DTSTART:20040227T000000
TZOFFSETFROM:+0000
TZOFFSETTO:+0000
TZNAME:UTC
END:STANDARD
END:VTIMEZONE
BEGIN:VEVENT
UID:6ef24a16-e87c-4edf-8170-f92ba273fd40
DTSTAMP:20221109T093515Z
SUMMARY:W3C Standards for Automating customer Support
DTSTART:20050221T000000Z
DTEND:20050221T000000Z
DESCRIPTION:https://www.w3.org/events/talks/2005/w3c-standards-for-automati
 ng-customer-support/\n\nW3C Standards for Automating customer Support
STATUS:CONFIRMED
CREATED:20050221T000000Z
LAST-MODIFIED:20221109T093515Z
END:VEVENT
END:VCALENDAR
