BEGIN:VCALENDAR
VERSION:2.0
PRODID:-//Sabre//Sabre VObject 4.5.8//EN
CALSCALE:GREGORIAN
NAME:W3C User Agent Accessibility Guidelines Test Suite Version 2.0 And Imp
 lementation Report
X-WR-CALNAME:W3C User Agent Accessibility Guidelines Test Suite Version 2.0
  And Implementation Report
BEGIN:VTIMEZONE
TZID:UTC
X-MICROSOFT-CDO-TZID:0
BEGIN:STANDARD
DTSTART:20040324T000000
TZOFFSETFROM:+0000
TZOFFSETTO:+0000
TZNAME:UTC
END:STANDARD
END:VTIMEZONE
BEGIN:VEVENT
UID:e8386bfc-b182-40ac-93bf-c3a77641a0cc
DTSTAMP:20221109T093456Z
SUMMARY:W3C User Agent Accessibility Guidelines Test Suite Version 2.0 And 
 Implementation Report
DTSTART:20050319T000000Z
DTEND:20050319T000000Z
DESCRIPTION:https://www.w3.org/events/talks/2005/w3c-user-agent-accessibili
 ty-guidelines-test-suite-version-2-0-and-implementation-report/\n\nW3C Use
 r Agent Accessibility Guidelines Test Suite Version 2.0 And Implementation
  Report
STATUS:CONFIRMED
CREATED:20050319T000000Z
LAST-MODIFIED:20221109T093456Z
END:VEVENT
END:VCALENDAR
