BEGIN:VCALENDAR
VERSION:2.0
PRODID:-//Sabre//Sabre VObject 4.5.8//EN
CALSCALE:GREGORIAN
NAME:W3C/WAI overview and danger of fragmentation
X-WR-CALNAME:W3C/WAI overview and danger of fragmentation
BEGIN:VTIMEZONE
TZID:UTC
X-MICROSOFT-CDO-TZID:0
BEGIN:STANDARD
DTSTART:20040313T000000
TZOFFSETFROM:+0000
TZOFFSETTO:+0000
TZNAME:UTC
END:STANDARD
END:VTIMEZONE
BEGIN:VEVENT
UID:ac090e98-2556-46fc-b037-b26a892dcd2f
DTSTAMP:20221109T093451Z
SUMMARY:W3C/WAI overview and danger of fragmentation
DTSTART:20050308T000000Z
DTEND:20050308T000000Z
DESCRIPTION:https://www.w3.org/events/talks/2005/w3c-wai-overview-and-dange
 r-of-fragmentation/\n\nW3C/WAI overview and danger of fragmentation
STATUS:CONFIRMED
CREATED:20050308T000000Z
LAST-MODIFIED:20221109T093451Z
END:VEVENT
END:VCALENDAR
