BEGIN:VCALENDAR
VERSION:2.0
PRODID:-//Sabre//Sabre VObject 4.5.8//EN
CALSCALE:GREGORIAN
NAME:W3C\, Web-teknologiat ja yhteensopivuus (W3C\, Web technologies\, and 
 interoperability)
X-WR-CALNAME:W3C\, Web-teknologiat ja yhteensopivuus (W3C\, Web technologie
 s\, and interoperability)
BEGIN:VTIMEZONE
TZID:UTC
X-MICROSOFT-CDO-TZID:0
BEGIN:STANDARD
DTSTART:20040410T000000
TZOFFSETFROM:+0000
TZOFFSETTO:+0000
TZNAME:UTC
END:STANDARD
END:VTIMEZONE
BEGIN:VEVENT
UID:6820b1f9-22ef-4c3d-93b0-a47429ce02fe
DTSTAMP:20221212T090923Z
SUMMARY:W3C\, Web-teknologiat ja yhteensopivuus (W3C\, Web technologies\, a
 nd interoperability)
DTSTART:20050405T000000Z
DTEND:20050405T000000Z
DESCRIPTION:https://www.w3.org/events/talks/2005/w3c-web-teknologiat-ja-yht
 eensopivuus/\n\nW3C\, Web-teknologiat ja yhteensopivuus (W3C\, Web technol
 ogies\, and interoperability)
STATUS:CONFIRMED
CREATED:20050405T000000Z
LAST-MODIFIED:20221212T090923Z
END:VEVENT
END:VCALENDAR
