BEGIN:VCALENDAR
VERSION:2.0
PRODID:-//Sabre//Sabre VObject 4.5.8//EN
CALSCALE:GREGORIAN
NAME:Web Accessibility: How to Get Your Organization on Track
X-WR-CALNAME:Web Accessibility: How to Get Your Organization on Track
BEGIN:VTIMEZONE
TZID:UTC
X-MICROSOFT-CDO-TZID:0
BEGIN:STANDARD
DTSTART:20040317T000000
TZOFFSETFROM:+0000
TZOFFSETTO:+0000
TZNAME:UTC
END:STANDARD
END:VTIMEZONE
BEGIN:VEVENT
UID:dec65703-6111-42ae-a57a-c4de75c6c87e
DTSTAMP:20221109T093506Z
SUMMARY:Web Accessibility: How to Get Your Organization on Track
DTSTART:20050312T000000Z
DTEND:20050312T000000Z
DESCRIPTION:https://www.w3.org/events/talks/2005/web-accessibility-how-to-g
 et-your-organization-on-track/\n\nWeb Accessibility: How to Get Your Organ
 ization on Track
STATUS:CONFIRMED
CREATED:20050312T000000Z
LAST-MODIFIED:20221109T093506Z
END:VEVENT
END:VCALENDAR
