BEGIN:VCALENDAR
VERSION:2.0
PRODID:-//Sabre//Sabre VObject 4.5.8//EN
CALSCALE:GREGORIAN
NAME:Web open standards\, a critical factor for e-administration
X-WR-CALNAME:Web open standards\, a critical factor for e-administration
BEGIN:VTIMEZONE
TZID:UTC
X-MICROSOFT-CDO-TZID:0
BEGIN:STANDARD
DTSTART:20040404T000000
TZOFFSETFROM:+0000
TZOFFSETTO:+0000
TZNAME:UTC
END:STANDARD
END:VTIMEZONE
BEGIN:VEVENT
UID:7a227800-29e5-4f1b-a86e-7020c6196a0b
DTSTAMP:20221109T093455Z
SUMMARY:Web open standards\, a critical factor for e-administration
DTSTART:20050330T000000Z
DTEND:20050330T000000Z
DESCRIPTION:https://www.w3.org/events/talks/2005/web-open-standards-a-criti
 cal-factor-for-e-administration/\n\nWeb open standards\, a critical factor
  for e-administration
STATUS:CONFIRMED
CREATED:20050330T000000Z
LAST-MODIFIED:20221109T093455Z
END:VEVENT
END:VCALENDAR
