BEGIN:VCALENDAR
VERSION:2.0
PRODID:-//Sabre//Sabre VObject 4.5.8//EN
CALSCALE:GREGORIAN
NAME:Web Services Choreography
X-WR-CALNAME:Web Services Choreography
BEGIN:VTIMEZONE
TZID:UTC
X-MICROSOFT-CDO-TZID:0
BEGIN:STANDARD
DTSTART:20040328T000000
TZOFFSETFROM:+0000
TZOFFSETTO:+0000
TZNAME:UTC
END:STANDARD
END:VTIMEZONE
BEGIN:VEVENT
UID:23e05b67-440d-4a98-97d1-6c9015433d9d
DTSTAMP:20221109T093500Z
SUMMARY:Web Services Choreography
DTSTART:20050323T000000Z
DTEND:20050323T000000Z
DESCRIPTION:https://www.w3.org/events/talks/2005/web-services-choreography/
 \n\nWeb Services Choreography
STATUS:CONFIRMED
CREATED:20050323T000000Z
LAST-MODIFIED:20221109T093500Z
END:VEVENT
END:VCALENDAR
