BEGIN:VCALENDAR
VERSION:2.0
PRODID:-//Sabre//Sabre VObject 4.5.8//EN
CALSCALE:GREGORIAN
NAME:Web Services Standards Update (panel)
X-WR-CALNAME:Web Services Standards Update (panel)
BEGIN:VTIMEZONE
TZID:UTC
X-MICROSOFT-CDO-TZID:0
BEGIN:STANDARD
DTSTART:20040208T000000
TZOFFSETFROM:+0000
TZOFFSETTO:+0000
TZNAME:UTC
END:STANDARD
END:VTIMEZONE
BEGIN:VEVENT
UID:3937d5c6-5b2c-4f8f-9080-f4d7292f7cf0
DTSTAMP:20221209T185058Z
SUMMARY:Web Services Standards Update (panel)
DTSTART:20050202T000000Z
DTEND:20050202T000000Z
DESCRIPTION:https://www.w3.org/events/talks/2005/web-services-standards-upd
 ate/\n\nWeb Services Standards Update (panel)
STATUS:CONFIRMED
CREATED:20050202T000000Z
LAST-MODIFIED:20221209T185058Z
END:VEVENT
END:VCALENDAR
