BEGIN:VCALENDAR
VERSION:2.0
PRODID:-//Sabre//Sabre VObject 4.5.8//EN
CALSCALE:GREGORIAN
NAME:Web Services
X-WR-CALNAME:Web Services
BEGIN:VTIMEZONE
TZID:UTC
X-MICROSOFT-CDO-TZID:0
BEGIN:STANDARD
DTSTART:20040410T000000
TZOFFSETFROM:+0000
TZOFFSETTO:+0000
TZNAME:UTC
END:STANDARD
END:VTIMEZONE
BEGIN:VEVENT
UID:5336d944-0976-47b5-a4c7-4741b23161cc
DTSTAMP:20221109T093517Z
SUMMARY:Web Services
DTSTART:20050405T000000Z
DTEND:20050405T000000Z
DESCRIPTION:https://www.w3.org/events/talks/2005/web-services/\n\nWeb Servi
 ces
STATUS:CONFIRMED
CREATED:20050405T000000Z
LAST-MODIFIED:20221109T093517Z
END:VEVENT
END:VCALENDAR
