BEGIN:VCALENDAR
VERSION:2.0
PRODID:-//Sabre//Sabre VObject 4.5.8//EN
CALSCALE:GREGORIAN
NAME:Weblapok akadálymentesítése (Accessibility of Web Sites)
X-WR-CALNAME:Weblapok akadálymentesítése (Accessibility of Web Sites)
BEGIN:VTIMEZONE
TZID:UTC
X-MICROSOFT-CDO-TZID:0
BEGIN:STANDARD
DTSTART:20040405T000000
TZOFFSETFROM:+0000
TZOFFSETTO:+0000
TZNAME:UTC
END:STANDARD
END:VTIMEZONE
BEGIN:VEVENT
UID:43f42de4-007c-4008-b86b-f6d02e119ed3
DTSTAMP:20221212T090837Z
SUMMARY:Weblapok akadálymentesítése (Accessibility of Web Sites)
DTSTART:20050331T000000Z
DTEND:20050331T000000Z
DESCRIPTION:https://www.w3.org/events/talks/2005/weblapok-akad%C3%A1lymente
 s%C3%ADt%C3%A9se-2/\n\nWeblapok akadálymentesítése (Accessibility of We
 b Sites)
STATUS:CONFIRMED
CREATED:20050331T000000Z
LAST-MODIFIED:20221212T090837Z
END:VEVENT
END:VCALENDAR
