BEGIN:VCALENDAR
VERSION:2.0
PRODID:-//Sabre//Sabre VObject 4.5.8//EN
CALSCALE:GREGORIAN
NAME:What's New in WSDL 2.0?
X-WR-CALNAME:What's New in WSDL 2.0?
BEGIN:VTIMEZONE
TZID:UTC
X-MICROSOFT-CDO-TZID:0
BEGIN:STANDARD
DTSTART:20040410T000000
TZOFFSETFROM:+0000
TZOFFSETTO:+0000
TZNAME:UTC
END:STANDARD
END:VTIMEZONE
BEGIN:VEVENT
UID:500d404a-084b-4cb2-9363-a1a1799abbad
DTSTAMP:20221109T093452Z
SUMMARY:What's New in WSDL 2.0?
DTSTART:20050405T000000Z
DTEND:20050405T000000Z
DESCRIPTION:https://www.w3.org/events/talks/2005/whats-new-in-wsdl-2-0/\n\n
 What's New in WSDL 2.0?
STATUS:CONFIRMED
CREATED:20050405T000000Z
LAST-MODIFIED:20221109T093452Z
END:VEVENT
END:VCALENDAR
