BEGIN:VCALENDAR
VERSION:2.0
PRODID:-//Sabre//Sabre VObject 4.5.8//EN
CALSCALE:GREGORIAN
NAME:World Wide Web Consortium: Overview and Emerging Technologies
X-WR-CALNAME:World Wide Web Consortium: Overview and Emerging Technologies
BEGIN:VTIMEZONE
TZID:UTC
X-MICROSOFT-CDO-TZID:0
BEGIN:STANDARD
DTSTART:20041218T000000
TZOFFSETFROM:+0000
TZOFFSETTO:+0000
TZNAME:UTC
END:STANDARD
END:VTIMEZONE
BEGIN:VEVENT
UID:f54261e2-9118-4096-82f7-3cb09977eab0
DTSTAMP:20221109T093505Z
SUMMARY:World Wide Web Consortium: Overview and Emerging Technologies
DTSTART:20051213T000000Z
DTEND:20051213T000000Z
DESCRIPTION:https://www.w3.org/events/talks/2005/world-wide-web-consortium-
 overview-and-emerging-technologies/\n\nWorld Wide Web Consortium: Overview
  and Emerging Technologies
STATUS:CONFIRMED
CREATED:20051213T000000Z
LAST-MODIFIED:20221109T093505Z
END:VEVENT
END:VCALENDAR
